BEGIN:VCALENDAR
VERSION:2.0
PRODID:JMS Hockey
X-PUBLISHED-TTL:P1W
BEGIN:VEVENT
UID:69e7aecce5fa9
DTSTART:20150724T005000Z
SEQUENCE:0
TRANSP:OPAQUE
DTEND:20150724T022000Z
URL:http://jmshockey.com/games/7666
LOCATION:Woodbury Bielenberg
SUMMARY:Lower Level Game at Woodbury Bielenberg
CLASS:PUBLIC
DTSTAMP:20260421T120724Z
END:VEVENT
END:VCALENDAR