BEGIN:VCALENDAR
VERSION:2.0
PRODID:JMS Hockey
X-PUBLISHED-TTL:P1W
BEGIN:VEVENT
UID:69e79a567e91a
DTSTART:20150725T021500Z
SEQUENCE:0
TRANSP:OPAQUE
DTEND:20150725T034500Z
URL:http://jmshockey.com/games/7656
LOCATION:Schwan Superrink
SUMMARY:All level Game at Schwan Superrink
CLASS:PUBLIC
DTSTAMP:20260421T104006Z
END:VEVENT
END:VCALENDAR