BEGIN:VCALENDAR
VERSION:2.0
PRODID:JMS Hockey
X-PUBLISHED-TTL:P1W
BEGIN:VEVENT
UID:69e7adcd793dd
DTSTART:20150711T001500Z
SEQUENCE:0
TRANSP:OPAQUE
DTEND:20150711T014500Z
URL:http://jmshockey.com/games/7654
LOCATION:Schwan Superrink
SUMMARY:All level Game at Schwan Superrink
CLASS:PUBLIC
DTSTAMP:20260421T120309Z
END:VEVENT
END:VCALENDAR