BEGIN:VCALENDAR
VERSION:2.0
PRODID:JMS Hockey
X-PUBLISHED-TTL:P1W
BEGIN:VEVENT
UID:69e7b39ef3968
DTSTART:20150801T031000Z
SEQUENCE:0
TRANSP:OPAQUE
DTEND:20150801T044000Z
URL:http://jmshockey.com/games/7653
LOCATION:Schwan Superrink
SUMMARY:All level Game at Schwan Superrink
CLASS:PUBLIC
DTSTAMP:20260421T122758Z
END:VEVENT
END:VCALENDAR