BEGIN:VCALENDAR
VERSION:2.0
PRODID:JMS Hockey
X-PUBLISHED-TTL:P1W
BEGIN:VEVENT
UID:69e79a3d099ac
DTSTART:20150707T020000Z
SEQUENCE:0
TRANSP:OPAQUE
DTEND:20150707T033000Z
URL:http://jmshockey.com/games/7641
LOCATION:Roseville Skating Center
SUMMARY:Lower Level Game at Roseville Skating Center
CLASS:PUBLIC
DTSTAMP:20260421T103941Z
END:VEVENT
END:VCALENDAR