BEGIN:VCALENDAR
VERSION:2.0
PRODID:JMS Hockey
X-PUBLISHED-TTL:P1W
BEGIN:VEVENT
UID:69e7a3b311547
DTSTART:20150731T021500Z
SEQUENCE:0
TRANSP:OPAQUE
DTEND:20150731T034500Z
URL:http://jmshockey.com/games/7636
LOCATION:Moose Sherritt Ice Arena
SUMMARY:All level Game at Moose Sherritt Ice Arena
CLASS:PUBLIC
DTSTAMP:20260421T112003Z
END:VEVENT
END:VCALENDAR