BEGIN:VCALENDAR
VERSION:2.0
PRODID:JMS Hockey
X-PUBLISHED-TTL:P1W
BEGIN:VEVENT
UID:69e7b0d9e1c29
DTSTART:20150708T004500Z
SEQUENCE:0
TRANSP:OPAQUE
DTEND:20150708T021500Z
URL:http://jmshockey.com/games/7633
LOCATION:Maple Grove
SUMMARY:Intermediate Game at Maple Grove
CLASS:PUBLIC
DTSTAMP:20260421T121609Z
END:VEVENT
END:VCALENDAR