BEGIN:VCALENDAR
VERSION:2.0
PRODID:JMS Hockey
X-PUBLISHED-TTL:P1W
BEGIN:VEVENT
UID:69e7c6a0c047f
DTSTART:20150730T020000Z
SEQUENCE:0
TRANSP:OPAQUE
DTEND:20150730T033000Z
URL:http://jmshockey.com/games/7628
LOCATION:Maple Grove
SUMMARY:Upper Level Game at Maple Grove
CLASS:PUBLIC
DTSTAMP:20260421T134904Z
END:VEVENT
END:VCALENDAR