BEGIN:VCALENDAR
VERSION:2.0
PRODID:JMS Hockey
X-PUBLISHED-TTL:P1W
BEGIN:VEVENT
UID:69e7ad7181928
DTSTART:20150714T023000Z
SEQUENCE:0
TRANSP:OPAQUE
DTEND:20150714T040000Z
URL:http://jmshockey.com/games/7622
LOCATION:Breck Anderson Arena
SUMMARY:Intermediate Game at Breck Anderson Arena
CLASS:PUBLIC
DTSTAMP:20260421T120137Z
END:VEVENT
END:VCALENDAR