BEGIN:VCALENDAR
VERSION:2.0
PRODID:JMS Hockey
X-PUBLISHED-TTL:P1W
BEGIN:VEVENT
UID:69e7a714a5b13
DTSTART:20090808T021500Z
SEQUENCE:0
TRANSP:OPAQUE
DTEND:20090808T034500Z
URL:http://jmshockey.com/games/762
LOCATION:St Louis Park Rec Center
SUMMARY:Level 1 Game at St Louis Park Rec Center
CLASS:PUBLIC
DTSTAMP:20260421T113428Z
END:VEVENT
END:VCALENDAR