BEGIN:VCALENDAR
VERSION:2.0
PRODID:JMS Hockey
X-PUBLISHED-TTL:P1W
BEGIN:VEVENT
UID:69e7b54cdd946
DTSTART:20150715T001500Z
SEQUENCE:0
TRANSP:OPAQUE
DTEND:20150715T014500Z
URL:http://jmshockey.com/games/7618
LOCATION:Apple Valley Hayes Park Arena
SUMMARY:Lower Level Game at Apple Valley Hayes Park Arena
CLASS:PUBLIC
DTSTAMP:20260421T123508Z
END:VEVENT
END:VCALENDAR