BEGIN:VCALENDAR
VERSION:2.0
PRODID:JMS Hockey
X-PUBLISHED-TTL:P1W
BEGIN:VEVENT
UID:69e7d722beca3
DTSTART:20150621T011000Z
SEQUENCE:0
TRANSP:OPAQUE
DTEND:20150621T024000Z
URL:http://jmshockey.com/games/7601
LOCATION:St Thomas Ice Arena
SUMMARY:All level Game at St Thomas Ice Arena
CLASS:PUBLIC
DTSTAMP:20260421T145930Z
END:VEVENT
END:VCALENDAR