BEGIN:VCALENDAR
VERSION:2.0
PRODID:JMS Hockey
X-PUBLISHED-TTL:P1W
BEGIN:VEVENT
UID:69e7c126b2a41
DTSTART:20150712T011000Z
SEQUENCE:0
TRANSP:OPAQUE
DTEND:20150712T024000Z
URL:http://jmshockey.com/games/7600
LOCATION:St Thomas Ice Arena
SUMMARY:All level Game at St Thomas Ice Arena
CLASS:PUBLIC
DTSTAMP:20260421T132542Z
END:VEVENT
END:VCALENDAR