BEGIN:VCALENDAR
VERSION:2.0
PRODID:JMS Hockey
X-PUBLISHED-TTL:P1W
BEGIN:VEVENT
UID:69e7957609a60
DTSTART:20150712T003000Z
SEQUENCE:0
TRANSP:OPAQUE
DTEND:20150712T020000Z
URL:http://jmshockey.com/games/7585
LOCATION:Rosemount Arena
SUMMARY:Intermediate Game at Rosemount Arena
CLASS:PUBLIC
DTSTAMP:20260421T101918Z
END:VEVENT
END:VCALENDAR