BEGIN:VCALENDAR
VERSION:2.0
PRODID:JMS Hockey
X-PUBLISHED-TTL:P1W
BEGIN:VEVENT
UID:69e7e6cfb0cf6
DTSTART:20150621T003000Z
SEQUENCE:0
TRANSP:OPAQUE
DTEND:20150621T020000Z
URL:http://jmshockey.com/games/7580
LOCATION:Rosemount Arena
SUMMARY:Elite Game at Rosemount Arena
CLASS:PUBLIC
DTSTAMP:20260421T160623Z
END:VEVENT
END:VCALENDAR