BEGIN:VCALENDAR
VERSION:2.0
PRODID:JMS Hockey
X-PUBLISHED-TTL:P1W
BEGIN:VEVENT
UID:69e7c2fbe1506
DTSTART:20090805T023000Z
SEQUENCE:0
TRANSP:OPAQUE
DTEND:20090805T040000Z
URL:http://jmshockey.com/games/758
LOCATION:Eden Prairie Comm Ctr
SUMMARY:Level 3 Game at Eden Prairie Comm Ctr
CLASS:PUBLIC
DTSTAMP:20260421T133331Z
END:VEVENT
END:VCALENDAR