BEGIN:VCALENDAR
VERSION:2.0
PRODID:JMS Hockey
X-PUBLISHED-TTL:P1W
BEGIN:VEVENT
UID:69e7aeb83f6c5
DTSTART:20150620T003000Z
SEQUENCE:0
TRANSP:OPAQUE
DTEND:20150620T020000Z
URL:http://jmshockey.com/games/7571
LOCATION:Rosemount Arena
SUMMARY:Lower Level Game at Rosemount Arena
CLASS:PUBLIC
DTSTAMP:20260421T120704Z
END:VEVENT
END:VCALENDAR