BEGIN:VCALENDAR
VERSION:2.0
PRODID:JMS Hockey
X-PUBLISHED-TTL:P1W
BEGIN:VEVENT
UID:69e7d4949f9aa
DTSTART:20150618T004000Z
SEQUENCE:0
TRANSP:OPAQUE
DTEND:20150618T021000Z
URL:http://jmshockey.com/games/7555
LOCATION:Doug Woog Arena (Wakota)
SUMMARY:Level 3 Game at Doug Woog Arena (Wakota)
CLASS:PUBLIC
DTSTAMP:20260421T144836Z
END:VEVENT
END:VCALENDAR