BEGIN:VCALENDAR
VERSION:2.0
PRODID:JMS Hockey
X-PUBLISHED-TTL:P1W
BEGIN:VEVENT
UID:69e7af00625e7
DTSTART:20150606T011500Z
SEQUENCE:0
TRANSP:OPAQUE
DTEND:20150606T024500Z
URL:http://jmshockey.com/games/7546
LOCATION:Roseville Skating Center
SUMMARY:Lower Level Game at Roseville Skating Center
CLASS:PUBLIC
DTSTAMP:20260421T120816Z
END:VEVENT
END:VCALENDAR