BEGIN:VCALENDAR
VERSION:2.0
PRODID:JMS Hockey
X-PUBLISHED-TTL:P1W
BEGIN:VEVENT
UID:69e7959dddbc6
DTSTART:20150606T001000Z
SEQUENCE:0
TRANSP:OPAQUE
DTEND:20150606T014000Z
URL:http://jmshockey.com/games/7543
LOCATION:Doug Woog Arena (Wakota)
SUMMARY:Intermediate Game at Doug Woog Arena (Wakota)
CLASS:PUBLIC
DTSTAMP:20260421T101957Z
END:VEVENT
END:VCALENDAR