BEGIN:VCALENDAR
VERSION:2.0
PRODID:JMS Hockey
X-PUBLISHED-TTL:P1W
BEGIN:VEVENT
UID:69e7c3142d21b
DTSTART:20150604T004000Z
SEQUENCE:0
TRANSP:OPAQUE
DTEND:20150604T021000Z
URL:http://jmshockey.com/games/7541
LOCATION:Doug Woog Arena (Wakota)
SUMMARY:Level 3 Game at Doug Woog Arena (Wakota)
CLASS:PUBLIC
DTSTAMP:20260421T133356Z
END:VEVENT
END:VCALENDAR