BEGIN:VCALENDAR
VERSION:2.0
PRODID:JMS Hockey
X-PUBLISHED-TTL:P1W
BEGIN:VEVENT
UID:69e7a36b2aac6
DTSTART:20150614T011000Z
SEQUENCE:0
TRANSP:OPAQUE
DTEND:20150614T024000Z
URL:http://jmshockey.com/games/7538
LOCATION:St Thomas Ice Arena
SUMMARY:All level Game at St Thomas Ice Arena
CLASS:PUBLIC
DTSTAMP:20260421T111851Z
END:VEVENT
END:VCALENDAR