BEGIN:VCALENDAR
VERSION:2.0
PRODID:JMS Hockey
X-PUBLISHED-TTL:P1W
BEGIN:VEVENT
UID:69e7bd65243e0
DTSTART:20150607T004000Z
SEQUENCE:0
TRANSP:OPAQUE
DTEND:20150607T021000Z
URL:http://jmshockey.com/games/7537
LOCATION:Inver Grove Heights Community Center
SUMMARY:All level Game at Inver Grove Heights Community Center
CLASS:PUBLIC
DTSTAMP:20260421T130941Z
END:VEVENT
END:VCALENDAR