BEGIN:VCALENDAR
VERSION:2.0
PRODID:JMS Hockey
X-PUBLISHED-TTL:P1W
BEGIN:VEVENT
UID:69e7d26a91d22
DTSTART:20150531T013000Z
SEQUENCE:0
TRANSP:OPAQUE
DTEND:20150531T030000Z
URL:http://jmshockey.com/games/7536
LOCATION:Inver Grove Heights Community Center
SUMMARY:All level Game at Inver Grove Heights Community Center
CLASS:PUBLIC
DTSTAMP:20260421T143922Z
END:VEVENT
END:VCALENDAR