BEGIN:VCALENDAR
VERSION:2.0
PRODID:JMS Hockey
X-PUBLISHED-TTL:P1W
BEGIN:VEVENT
UID:69e799f5e2fd4
DTSTART:20150701T004500Z
SEQUENCE:0
TRANSP:OPAQUE
DTEND:20150701T021500Z
URL:http://jmshockey.com/games/7521
LOCATION:Maple Grove
SUMMARY:Intermediate Game at Maple Grove
CLASS:PUBLIC
DTSTAMP:20260421T103829Z
END:VEVENT
END:VCALENDAR