BEGIN:VCALENDAR
VERSION:2.0
PRODID:JMS Hockey
X-PUBLISHED-TTL:P1W
BEGIN:VEVENT
UID:69e77ab6eacb8
DTSTART:20150609T024500Z
SEQUENCE:0
TRANSP:OPAQUE
DTEND:20150609T041500Z
URL:http://jmshockey.com/games/7503
LOCATION:St Thomas Ice Arena
SUMMARY:Elite Game at St Thomas Ice Arena
CLASS:PUBLIC
DTSTAMP:20260421T082510Z
END:VEVENT
END:VCALENDAR