BEGIN:VCALENDAR
VERSION:2.0
PRODID:JMS Hockey
X-PUBLISHED-TTL:P1W
BEGIN:VEVENT
UID:69e7ad7b73129
DTSTART:20150626T023000Z
SEQUENCE:0
TRANSP:OPAQUE
DTEND:20150626T040000Z
URL:http://jmshockey.com/games/7498
LOCATION:Breck Anderson Arena
SUMMARY:Elite Game at Breck Anderson Arena
CLASS:PUBLIC
DTSTAMP:20260421T120147Z
END:VEVENT
END:VCALENDAR