BEGIN:VCALENDAR
VERSION:2.0
PRODID:JMS Hockey
X-PUBLISHED-TTL:P1W
BEGIN:VEVENT
UID:69e7a398c84c4
DTSTART:20150612T011500Z
SEQUENCE:0
TRANSP:OPAQUE
DTEND:20150612T024500Z
URL:http://jmshockey.com/games/7481
LOCATION:Moose Sherritt Ice Arena
SUMMARY:All level Game at Moose Sherritt Ice Arena
CLASS:PUBLIC
DTSTAMP:20260421T111936Z
END:VEVENT
END:VCALENDAR