BEGIN:VCALENDAR
VERSION:2.0
PRODID:JMS Hockey
X-PUBLISHED-TTL:P1W
BEGIN:VEVENT
UID:69e7730fb3503
DTSTART:20150613T001500Z
SEQUENCE:0
TRANSP:OPAQUE
DTEND:20150613T014500Z
URL:http://jmshockey.com/games/7472
LOCATION:Eden Prairie Comm Ctr
SUMMARY:Intermediate Game at Eden Prairie Comm Ctr
CLASS:PUBLIC
DTSTAMP:20260421T075231Z
END:VEVENT
END:VCALENDAR