BEGIN:VCALENDAR
VERSION:2.0
PRODID:JMS Hockey
X-PUBLISHED-TTL:P1W
BEGIN:VEVENT
UID:69e799f870c92
DTSTART:20150701T003000Z
SEQUENCE:0
TRANSP:OPAQUE
DTEND:20150701T020000Z
URL:http://jmshockey.com/games/7468
LOCATION:Eden Prairie Comm Ctr
SUMMARY:Upper Level Game at Eden Prairie Comm Ctr
CLASS:PUBLIC
DTSTAMP:20260421T103832Z
END:VEVENT
END:VCALENDAR