BEGIN:VCALENDAR
VERSION:2.0
PRODID:JMS Hockey
X-PUBLISHED-TTL:P1W
BEGIN:VEVENT
UID:69e7d61f65c6f
DTSTART:20150626T010000Z
SEQUENCE:0
TRANSP:OPAQUE
DTEND:20150626T023000Z
URL:http://jmshockey.com/games/7467
LOCATION:Apple Valley Hayes Park Arena
SUMMARY:Intermediate Game at Apple Valley Hayes Park Arena
CLASS:PUBLIC
DTSTAMP:20260421T145511Z
END:VEVENT
END:VCALENDAR