BEGIN:VCALENDAR
VERSION:2.0
PRODID:JMS Hockey
X-PUBLISHED-TTL:P1W
BEGIN:VEVENT
UID:69e78788e35c4
DTSTART:20150519T014000Z
SEQUENCE:0
TRANSP:OPAQUE
DTEND:20150519T031000Z
URL:http://jmshockey.com/games/7457
LOCATION:Doug Woog Arena (Wakota)
SUMMARY:Lower Level Game at Doug Woog Arena (Wakota)
CLASS:PUBLIC
DTSTAMP:20260421T091952Z
END:VEVENT
END:VCALENDAR