BEGIN:VCALENDAR
VERSION:2.0
PRODID:JMS Hockey
X-PUBLISHED-TTL:P1W
BEGIN:VEVENT
UID:69e7c1410bdcd
DTSTART:20150522T024500Z
SEQUENCE:0
TRANSP:OPAQUE
DTEND:20150522T041500Z
URL:http://jmshockey.com/games/7431
LOCATION:St Thomas Ice Arena
SUMMARY:All level Game at St Thomas Ice Arena
CLASS:PUBLIC
DTSTAMP:20260421T132609Z
END:VEVENT
END:VCALENDAR