BEGIN:VCALENDAR
VERSION:2.0
PRODID:JMS Hockey
X-PUBLISHED-TTL:P1W
BEGIN:VEVENT
UID:69e7e76e9c51b
DTSTART:20150517T014000Z
SEQUENCE:0
TRANSP:OPAQUE
DTEND:20150517T031000Z
URL:http://jmshockey.com/games/7425
LOCATION:St Thomas Ice Arena
SUMMARY:All level Game at St Thomas Ice Arena
CLASS:PUBLIC
DTSTAMP:20260421T160902Z
END:VEVENT
END:VCALENDAR