BEGIN:VCALENDAR
VERSION:2.0
PRODID:JMS Hockey
X-PUBLISHED-TTL:P1W
BEGIN:VEVENT
UID:69e7a51aac105
DTSTART:20150519T024500Z
SEQUENCE:0
TRANSP:OPAQUE
DTEND:20150519T041500Z
URL:http://jmshockey.com/games/7423
LOCATION:St Thomas Ice Arena
SUMMARY:Elite Game at St Thomas Ice Arena
CLASS:PUBLIC
DTSTAMP:20260421T112602Z
END:VEVENT
END:VCALENDAR