BEGIN:VCALENDAR
VERSION:2.0
PRODID:JMS Hockey
X-PUBLISHED-TTL:P1W
BEGIN:VEVENT
UID:69e7c31a738f2
DTSTART:20150522T021500Z
SEQUENCE:0
TRANSP:OPAQUE
DTEND:20150522T034500Z
URL:http://jmshockey.com/games/7408
LOCATION:Moose Sherritt Ice Arena
SUMMARY:All level Game at Moose Sherritt Ice Arena
CLASS:PUBLIC
DTSTAMP:20260421T133402Z
END:VEVENT
END:VCALENDAR