BEGIN:VCALENDAR
VERSION:2.0
PRODID:JMS Hockey
X-PUBLISHED-TTL:P1W
BEGIN:VEVENT
UID:69e7ad7b87d90
DTSTART:20150529T004500Z
SEQUENCE:0
TRANSP:OPAQUE
DTEND:20150529T021500Z
URL:http://jmshockey.com/games/7399
LOCATION:Maple Grove
SUMMARY:Lower Level Game at Maple Grove
CLASS:PUBLIC
DTSTAMP:20260421T120147Z
END:VEVENT
END:VCALENDAR