BEGIN:VCALENDAR
VERSION:2.0
PRODID:JMS Hockey
X-PUBLISHED-TTL:P1W
BEGIN:VEVENT
UID:69e7b35ddc25e
DTSTART:20150513T014500Z
SEQUENCE:0
TRANSP:OPAQUE
DTEND:20150513T031500Z
URL:http://jmshockey.com/games/7392
LOCATION:Eden Prairie Comm Ctr
SUMMARY:Upper Level Game at Eden Prairie Comm Ctr
CLASS:PUBLIC
DTSTAMP:20260421T122653Z
END:VEVENT
END:VCALENDAR