BEGIN:VCALENDAR
VERSION:2.0
PRODID:JMS Hockey
X-PUBLISHED-TTL:P1W
BEGIN:VEVENT
UID:69e7a339c166e
DTSTART:20150506T020000Z
SEQUENCE:0
TRANSP:OPAQUE
DTEND:20150506T033000Z
URL:http://jmshockey.com/games/7391
LOCATION:Eden Prairie Comm Ctr
SUMMARY:Upper Level Game at Eden Prairie Comm Ctr
CLASS:PUBLIC
DTSTAMP:20260421T111801Z
END:VEVENT
END:VCALENDAR