BEGIN:VCALENDAR
VERSION:2.0
PRODID:JMS Hockey
X-PUBLISHED-TTL:P1W
BEGIN:VEVENT
UID:69e7adf5b468b
DTSTART:20150704T001500Z
SEQUENCE:0
TRANSP:OPAQUE
DTEND:20150704T014500Z
URL:http://jmshockey.com/games/7388
LOCATION:Eden Prairie Comm Ctr
SUMMARY:Intermediate Game at Eden Prairie Comm Ctr
CLASS:PUBLIC
DTSTAMP:20260421T120349Z
END:VEVENT
END:VCALENDAR