BEGIN:VCALENDAR
VERSION:2.0
PRODID:JMS Hockey
X-PUBLISHED-TTL:P1W
BEGIN:VEVENT
UID:69e79a62a7a49
DTSTART:20150516T023000Z
SEQUENCE:0
TRANSP:OPAQUE
DTEND:20150516T040000Z
URL:http://jmshockey.com/games/7387
LOCATION:Eden Prairie Comm Ctr
SUMMARY:Intermediate Game at Eden Prairie Comm Ctr
CLASS:PUBLIC
DTSTAMP:20260421T104018Z
END:VEVENT
END:VCALENDAR