BEGIN:VCALENDAR
VERSION:2.0
PRODID:JMS Hockey
X-PUBLISHED-TTL:P1W
BEGIN:VEVENT
UID:69e799c8661d7
DTSTART:20150530T004500Z
SEQUENCE:0
TRANSP:OPAQUE
DTEND:20150530T021500Z
URL:http://jmshockey.com/games/7384
LOCATION:Eden Prairie Comm Ctr
SUMMARY:Intermediate Game at Eden Prairie Comm Ctr
CLASS:PUBLIC
DTSTAMP:20260421T103744Z
END:VEVENT
END:VCALENDAR