BEGIN:VCALENDAR
VERSION:2.0
PRODID:JMS Hockey
X-PUBLISHED-TTL:P1W
BEGIN:VEVENT
UID:69e7d82ced2c4
DTSTART:20090728T010000Z
SEQUENCE:0
TRANSP:OPAQUE
DTEND:20090728T023000Z
URL:http://jmshockey.com/games/738
LOCATION:Bloomington Ice Gardens
SUMMARY:Level 2 Game at Bloomington Ice Gardens
CLASS:PUBLIC
DTSTAMP:20260421T150356Z
END:VEVENT
END:VCALENDAR