BEGIN:VCALENDAR
VERSION:2.0
PRODID:JMS Hockey
X-PUBLISHED-TTL:P1W
BEGIN:VEVENT
UID:69e7a3ae10153
DTSTART:20150520T011000Z
SEQUENCE:0
TRANSP:OPAQUE
DTEND:20150520T024000Z
URL:http://jmshockey.com/games/7374
LOCATION:Burnsville Arena
SUMMARY:Lower Level Game at Burnsville Arena
CLASS:PUBLIC
DTSTAMP:20260421T111958Z
END:VEVENT
END:VCALENDAR