BEGIN:VCALENDAR
VERSION:2.0
PRODID:JMS Hockey
X-PUBLISHED-TTL:P1W
BEGIN:VEVENT
UID:69e7a3586fbf4
DTSTART:20150519T023000Z
SEQUENCE:0
TRANSP:OPAQUE
DTEND:20150519T040000Z
URL:http://jmshockey.com/games/7365
LOCATION:Breck Anderson Arena
SUMMARY:Intermediate Game at Breck Anderson Arena
CLASS:PUBLIC
DTSTAMP:20260421T111832Z
END:VEVENT
END:VCALENDAR