BEGIN:VCALENDAR
VERSION:2.0
PRODID:JMS Hockey
X-PUBLISHED-TTL:P1W
BEGIN:VEVENT
UID:69e7d721cd9ba
DTSTART:20090728T013000Z
SEQUENCE:0
TRANSP:OPAQUE
DTEND:20090728T030000Z
URL:http://jmshockey.com/games/736
LOCATION:Total Hockey West
SUMMARY:Level 0 Game at Total Hockey West
CLASS:PUBLIC
DTSTAMP:20260421T145929Z
END:VEVENT
END:VCALENDAR