BEGIN:VCALENDAR
VERSION:2.0
PRODID:JMS Hockey
X-PUBLISHED-TTL:P1W
BEGIN:VEVENT
UID:69e7d4759ec69
DTSTART:20150529T010000Z
SEQUENCE:0
TRANSP:OPAQUE
DTEND:20150529T023000Z
URL:http://jmshockey.com/games/7357
LOCATION:Moose Sherritt Ice Arena
SUMMARY:All level Game at Moose Sherritt Ice Arena
CLASS:PUBLIC
DTSTAMP:20260421T144805Z
END:VEVENT
END:VCALENDAR