BEGIN:VCALENDAR
VERSION:2.0
PRODID:JMS Hockey
X-PUBLISHED-TTL:P1W
BEGIN:VEVENT
UID:69e7a39c71eec
DTSTART:20150418T021000Z
SEQUENCE:0
TRANSP:OPAQUE
DTEND:20150418T034000Z
URL:http://jmshockey.com/games/7348
LOCATION:Doug Woog Arena (Wakota)
SUMMARY:Intermediate Game at Doug Woog Arena (Wakota)
CLASS:PUBLIC
DTSTAMP:20260421T111940Z
END:VEVENT
END:VCALENDAR