BEGIN:VCALENDAR
VERSION:2.0
PRODID:JMS Hockey
X-PUBLISHED-TTL:P1W
BEGIN:VEVENT
UID:69e7ad9c22c9b
DTSTART:20150414T014000Z
SEQUENCE:0
TRANSP:OPAQUE
DTEND:20150414T031000Z
URL:http://jmshockey.com/games/7346
LOCATION:Doug Woog Arena (Wakota)
SUMMARY:Lower Level Game at Doug Woog Arena (Wakota)
CLASS:PUBLIC
DTSTAMP:20260421T120220Z
END:VEVENT
END:VCALENDAR