BEGIN:VCALENDAR
VERSION:2.0
PRODID:JMS Hockey
X-PUBLISHED-TTL:P1W
BEGIN:VEVENT
UID:69e795758e70f
DTSTART:20150429T021500Z
SEQUENCE:0
TRANSP:OPAQUE
DTEND:20150429T034500Z
URL:http://jmshockey.com/games/7330
LOCATION:St Louis Park Rec Center
SUMMARY:Level 4 Game at St Louis Park Rec Center
CLASS:PUBLIC
DTSTAMP:20260421T101917Z
END:VEVENT
END:VCALENDAR